BEGIN:VCALENDAR
VERSION:2.0
PRODID:-//Fairfax Station Homeowners&#039; Association - ECPv6.15.20//NONSGML v1.0//EN
CALSCALE:GREGORIAN
METHOD:PUBLISH
X-WR-CALNAME:Fairfax Station Homeowners&#039; Association
X-ORIGINAL-URL:https://fshoa-va.com
X-WR-CALDESC:Events for Fairfax Station Homeowners&#039; Association
REFRESH-INTERVAL;VALUE=DURATION:PT1H
X-Robots-Tag:noindex
X-PUBLISHED-TTL:PT1H
BEGIN:VTIMEZONE
TZID:America/New_York
BEGIN:DAYLIGHT
TZOFFSETFROM:-0500
TZOFFSETTO:-0400
TZNAME:EDT
DTSTART:20230312T070000
END:DAYLIGHT
BEGIN:STANDARD
TZOFFSETFROM:-0400
TZOFFSETTO:-0500
TZNAME:EST
DTSTART:20231105T060000
END:STANDARD
BEGIN:DAYLIGHT
TZOFFSETFROM:-0500
TZOFFSETTO:-0400
TZNAME:EDT
DTSTART:20240310T070000
END:DAYLIGHT
BEGIN:STANDARD
TZOFFSETFROM:-0400
TZOFFSETTO:-0500
TZNAME:EST
DTSTART:20241103T060000
END:STANDARD
BEGIN:DAYLIGHT
TZOFFSETFROM:-0500
TZOFFSETTO:-0400
TZNAME:EDT
DTSTART:20250309T070000
END:DAYLIGHT
BEGIN:STANDARD
TZOFFSETFROM:-0400
TZOFFSETTO:-0500
TZNAME:EST
DTSTART:20251102T060000
END:STANDARD
END:VTIMEZONE
BEGIN:VEVENT
DTSTART;TZID=America/New_York:20241114T180000
DTEND;TZID=America/New_York:20241114T180000
DTSTAMP:20260424T083338
CREATED:20241024T120214Z
LAST-MODIFIED:20241024T120214Z
UID:1937-1731607200-1731607200@fshoa-va.com
SUMMARY:2024 Homeowners Association Annual Meeting & Social Hour
DESCRIPTION:The Fairfax Station Homeowners Association will conduct the Annual Meeting on Thursday\, November 14\, 2024 at Fairview Elementary School in the cafeteria. \nThe social hour with refreshments begins at 6pm. \nThe meeting will commence at 7pm.
URL:https://fshoa-va.com/event/2024-homeowners-association-annual-meeting-social-hour/
LOCATION:Fairview Elementary School\, 5815 Ox Road\, Fairfax Station\, VA\, 22039\, United States
CATEGORIES:Annual Meeting
END:VEVENT
END:VCALENDAR