BEGIN:VCALENDAR
VERSION:2.0
PRODID:-//Fairfax Station Homeowners&#039; Association - ECPv6.15.20//NONSGML v1.0//EN
CALSCALE:GREGORIAN
METHOD:PUBLISH
X-WR-CALNAME:Fairfax Station Homeowners&#039; Association
X-ORIGINAL-URL:https://fshoa-va.com
X-WR-CALDESC:Events for Fairfax Station Homeowners&#039; Association
REFRESH-INTERVAL;VALUE=DURATION:PT1H
X-Robots-Tag:noindex
X-PUBLISHED-TTL:PT1H
BEGIN:VTIMEZONE
TZID:America/New_York
BEGIN:DAYLIGHT
TZOFFSETFROM:-0500
TZOFFSETTO:-0400
TZNAME:EDT
DTSTART:20210314T070000
END:DAYLIGHT
BEGIN:STANDARD
TZOFFSETFROM:-0400
TZOFFSETTO:-0500
TZNAME:EST
DTSTART:20211107T060000
END:STANDARD
BEGIN:DAYLIGHT
TZOFFSETFROM:-0500
TZOFFSETTO:-0400
TZNAME:EDT
DTSTART:20220313T070000
END:DAYLIGHT
BEGIN:STANDARD
TZOFFSETFROM:-0400
TZOFFSETTO:-0500
TZNAME:EST
DTSTART:20221106T060000
END:STANDARD
BEGIN:DAYLIGHT
TZOFFSETFROM:-0500
TZOFFSETTO:-0400
TZNAME:EDT
DTSTART:20230312T070000
END:DAYLIGHT
BEGIN:STANDARD
TZOFFSETFROM:-0400
TZOFFSETTO:-0500
TZNAME:EST
DTSTART:20231105T060000
END:STANDARD
END:VTIMEZONE
BEGIN:VEVENT
DTSTART;TZID=America/New_York:20221215T190000
DTEND;TZID=America/New_York:20221215T190000
DTSTAMP:20260423T185135
CREATED:20221129T125742Z
LAST-MODIFIED:20221129T125742Z
UID:1557-1671130800-1671130800@fshoa-va.com
SUMMARY:December 2022 Board Meeting
DESCRIPTION:The December 2022 Board Meeting will be held on Thursday\, December 15 at 7pm at the Burke Centre Library. We encourage our FSHOA homeowners to attend and participate. It’s a great forum to make your voice heard and to work together to improve our community.
URL:https://fshoa-va.com/event/december-2022-board-meeting/
LOCATION:Burke Centre Library\, 5935 Freds Oak Rd.\, Burke\, VA\, 22015\, United States
CATEGORIES:Board Meetings
END:VEVENT
BEGIN:VEVENT
DTSTART;TZID=America/New_York:20221117T180000
DTEND;TZID=America/New_York:20221117T180000
DTSTAMP:20260423T185135
CREATED:20220923T170822Z
LAST-MODIFIED:20220923T170822Z
UID:1523-1668708000-1668708000@fshoa-va.com
SUMMARY:2022 Homeowners Association Annual Meeting & Social Hour
DESCRIPTION:The Fairfax Station Homeowners Association will conduct the Annual Meeting on Thursday\, November 17\, 2022 at Fairview Elementary School. \nThe social hour with refreshments begins at 6pm. \nThe meeting will commence at 7pm.
URL:https://fshoa-va.com/event/2022-homeowners-association-annual-meeting-social-hour/
LOCATION:Fairview Elementary School\, 5815 Ox Road\, Fairfax Station\, VA\, 22039\, United States
CATEGORIES:Annual Meeting
END:VEVENT
BEGIN:VEVENT
DTSTART;TZID=America/New_York:20221027T190000
DTEND;TZID=America/New_York:20221027T190000
DTSTAMP:20260423T185135
CREATED:20220923T170310Z
LAST-MODIFIED:20221025T110327Z
UID:1521-1666897200-1666897200@fshoa-va.com
SUMMARY:October 2022 Board Meeting
DESCRIPTION:The October 2022 Board Meeting will be held on Thursday\, October 27 at 7pm at Pohick Regional Library. We encourage our FSHOA homeowners to attend and participate. It’s a great forum to make your voice heard and to work together to improve our community.
URL:https://fshoa-va.com/event/october-2022-board-meeting/
LOCATION:Pohick Regional Library\, 6450 Sydenstricker Rd\, Burke\, 22015
CATEGORIES:Board Meetings
END:VEVENT
BEGIN:VEVENT
DTSTART;TZID=America/New_York:20220922T190000
DTEND;TZID=America/New_York:20220922T190000
DTSTAMP:20260423T185135
CREATED:20220830T201144Z
LAST-MODIFIED:20220830T201414Z
UID:1496-1663873200-1663873200@fshoa-va.com
SUMMARY:September 2022 Board Meeting
DESCRIPTION:The September 2022 Board Meeting will be held on Thursday\, September 22 at 7pm at Burke Centre Library. We encourage our FSHOA homeowners to attend and participate. It’s a great forum to make your voice heard and to work together to improve our community.
URL:https://fshoa-va.com/event/september-2022-board-meeting/
LOCATION:Burke Centre Library\, 5935 Freds Oak Rd.\, Burke\, VA\, 22015\, United States
CATEGORIES:Board Meetings
END:VEVENT
BEGIN:VEVENT
DTSTART;TZID=America/New_York:20220818T190000
DTEND;TZID=America/New_York:20220818T190000
DTSTAMP:20260423T185135
CREATED:20220701T155427Z
LAST-MODIFIED:20220701T155427Z
UID:1463-1660849200-1660849200@fshoa-va.com
SUMMARY:August 2022 Board Meeting
DESCRIPTION:The August 2022 Board Meeting will be held on Thursday\, August 18 at 7pm at Burke Centre Library. We encourage our FSHOA homeowners to attend and participate. It’s a great forum to make your voice heard and to work together to improve our community.
URL:https://fshoa-va.com/event/august-2022-board-meeting/
LOCATION:Burke Centre Library\, 5935 Freds Oak Rd.\, Burke\, VA\, 22015\, United States
CATEGORIES:Board Meetings
END:VEVENT
BEGIN:VEVENT
DTSTART;TZID=America/New_York:20220627T190000
DTEND;TZID=America/New_York:20220627T190000
DTSTAMP:20260423T185135
CREATED:20220608T131823Z
LAST-MODIFIED:20220608T131823Z
UID:1434-1656356400-1656356400@fshoa-va.com
SUMMARY:Neighborhood Stream Restoration Information Meeting
DESCRIPTION:Pat Flaherty will discuss general info regarding the stream restoration project’s impact on the grounds adjacent to the pond\, as well as other general information on the project that may not be covered during the County presentation (held on June 22).
URL:https://fshoa-va.com/event/neighborhood-stream-restoration-information-meeting/
LOCATION:Picket Pond
CATEGORIES:Community Meeting
END:VEVENT
BEGIN:VEVENT
DTSTART;TZID=America/New_York:20220623T190000
DTEND;TZID=America/New_York:20220623T190000
DTSTAMP:20260423T185135
CREATED:20220531T111738Z
LAST-MODIFIED:20220608T130831Z
UID:1421-1656010800-1656010800@fshoa-va.com
SUMMARY:June 2022 Board Meeting
DESCRIPTION:The June 2022 Board Meeting will be held on Thursday\, June 23 at 7pm at Burke Centre Library. We encourage our FSHOA homeowners to attend and participate. It’s a great forum to make your voice heard and to work together to improve our community.
URL:https://fshoa-va.com/event/june-2022-board-meeting/
LOCATION:Burke Centre Library\, 5935 Freds Oak Rd.\, Burke\, VA\, 22015\, United States
CATEGORIES:Board Meetings
END:VEVENT
BEGIN:VEVENT
DTSTART;TZID=America/New_York:20220622T190000
DTEND;TZID=America/New_York:20220622T190000
DTSTAMP:20260423T185135
CREATED:20220608T132046Z
LAST-MODIFIED:20220608T132244Z
UID:1437-1655924400-1655924400@fshoa-va.com
SUMMARY:County Stream Restoration Information Meeting (Virtual)
DESCRIPTION:The County will hold a Pardon-Our-Dust neighborhood meeting before construction around the pond & stream begins to provide an overview of the project and to answer questions. This will be a virtual meeting\, held on Wednesday\, June 22nd at 7:00 pm. The link to access the meeting is https://bit.ly/3PXPxDy.  
URL:https://fshoa-va.com/event/county-stream-restoration-information-meeting-virtual/
END:VEVENT
END:VCALENDAR