BEGIN:VCALENDAR
VERSION:2.0
PRODID:-//Fairfax Station Homeowners&#039; Association - ECPv6.15.20//NONSGML v1.0//EN
CALSCALE:GREGORIAN
METHOD:PUBLISH
X-WR-CALNAME:Fairfax Station Homeowners&#039; Association
X-ORIGINAL-URL:https://fshoa-va.com
X-WR-CALDESC:Events for Fairfax Station Homeowners&#039; Association
REFRESH-INTERVAL;VALUE=DURATION:PT1H
X-Robots-Tag:noindex
X-PUBLISHED-TTL:PT1H
BEGIN:VTIMEZONE
TZID:America/New_York
BEGIN:DAYLIGHT
TZOFFSETFROM:-0500
TZOFFSETTO:-0400
TZNAME:EDT
DTSTART:20220313T070000
END:DAYLIGHT
BEGIN:STANDARD
TZOFFSETFROM:-0400
TZOFFSETTO:-0500
TZNAME:EST
DTSTART:20221106T060000
END:STANDARD
BEGIN:DAYLIGHT
TZOFFSETFROM:-0500
TZOFFSETTO:-0400
TZNAME:EDT
DTSTART:20230312T070000
END:DAYLIGHT
BEGIN:STANDARD
TZOFFSETFROM:-0400
TZOFFSETTO:-0500
TZNAME:EST
DTSTART:20231105T060000
END:STANDARD
BEGIN:DAYLIGHT
TZOFFSETFROM:-0500
TZOFFSETTO:-0400
TZNAME:EDT
DTSTART:20240310T070000
END:DAYLIGHT
BEGIN:STANDARD
TZOFFSETFROM:-0400
TZOFFSETTO:-0500
TZNAME:EST
DTSTART:20241103T060000
END:STANDARD
BEGIN:DAYLIGHT
TZOFFSETFROM:-0500
TZOFFSETTO:-0400
TZNAME:EDT
DTSTART:20250309T070000
END:DAYLIGHT
BEGIN:STANDARD
TZOFFSETFROM:-0400
TZOFFSETTO:-0500
TZNAME:EST
DTSTART:20251102T060000
END:STANDARD
BEGIN:DAYLIGHT
TZOFFSETFROM:-0500
TZOFFSETTO:-0400
TZNAME:EDT
DTSTART:20260308T070000
END:DAYLIGHT
BEGIN:STANDARD
TZOFFSETFROM:-0400
TZOFFSETTO:-0500
TZNAME:EST
DTSTART:20261101T060000
END:STANDARD
BEGIN:DAYLIGHT
TZOFFSETFROM:-0500
TZOFFSETTO:-0400
TZNAME:EDT
DTSTART:20270314T070000
END:DAYLIGHT
BEGIN:STANDARD
TZOFFSETFROM:-0400
TZOFFSETTO:-0500
TZNAME:EST
DTSTART:20271107T060000
END:STANDARD
END:VTIMEZONE
BEGIN:VEVENT
DTSTART;TZID=America/New_York:20260416T190000
DTEND;TZID=America/New_York:20260416T190000
DTSTAMP:20260423T110100
CREATED:20260415T135627Z
LAST-MODIFIED:20260415T135627Z
UID:2156-1776366000-1776366000@fshoa-va.com
SUMMARY:April 2026 Board Meeting
DESCRIPTION:The April 2026 Board Meeting will be held on Thursday\, April 16 at 7:00 pm via Zoom. We encourage our FSHOA homeowners to attend and participate. It’s a great forum to make your voice heard and to work together to improve our community. If you’re interested in attending this virtual meeting\, please send an email to Matt Howard\, HOA President.
URL:https://fshoa-va.com/event/april-2026-board-meeting/
LOCATION:via Zoom
CATEGORIES:Board Meetings
END:VEVENT
BEGIN:VEVENT
DTSTART;TZID=America/New_York:20260319T190000
DTEND;TZID=America/New_York:20260319T190000
DTSTAMP:20260423T110100
CREATED:20260228T181145Z
LAST-MODIFIED:20260228T181331Z
UID:2132-1773946800-1773946800@fshoa-va.com
SUMMARY:March 2026 Board Meeting
DESCRIPTION:The March 2026 Board Meeting will be held on Thursday\, March 19 at 7:00 pm via Zoom. We encourage our FSHOA homeowners to attend and participate. It’s a great forum to make your voice heard and to work together to improve our community. If you’re interested in attending this virtual meeting\, please send an email to Matt Howard\, HOA President.
URL:https://fshoa-va.com/event/march-2026-board-meeting/
LOCATION:via Zoom
CATEGORIES:Board Meetings
END:VEVENT
BEGIN:VEVENT
DTSTART;TZID=America/New_York:20260219T190000
DTEND;TZID=America/New_York:20260219T190000
DTSTAMP:20260423T110100
CREATED:20260202T163448Z
LAST-MODIFIED:20260202T163628Z
UID:2126-1771527600-1771527600@fshoa-va.com
SUMMARY:February 2026 Board Meeting
DESCRIPTION:The February 2026 Board Meeting will be held on Thursday\, February 19 at 7:00 pm via Zoom. We encourage our FSHOA homeowners to attend and participate. It’s a great forum to make your voice heard and to work together to improve our community. If you’re interested in attending this virtual meeting\, please send an email to Matt Howard\, HOA President.
URL:https://fshoa-va.com/event/february-2026-board-meeting/
LOCATION:via Zoom
CATEGORIES:Board Meetings
END:VEVENT
BEGIN:VEVENT
DTSTART;TZID=America/New_York:20260122T190000
DTEND;TZID=America/New_York:20260122T190000
DTSTAMP:20260423T110100
CREATED:20260102T193315Z
LAST-MODIFIED:20260102T193315Z
UID:2117-1769108400-1769108400@fshoa-va.com
SUMMARY:January 2026 Board Meeting
DESCRIPTION:The January 2026 Board Meeting will be held on Thursday\, January 26 at 7:00 pm via Zoom. We encourage our FSHOA homeowners to attend and participate. It’s a great forum to make your voice heard and to work together to improve our community. If you’re interested in attending this virtual meeting\, please send an email to Matt Howard\, HOA President.
URL:https://fshoa-va.com/event/january-2026-board-meeting/
LOCATION:via Zoom
CATEGORIES:Board Meetings
END:VEVENT
BEGIN:VEVENT
DTSTART;TZID=America/New_York:20251113T180000
DTEND;TZID=America/New_York:20251113T180000
DTSTAMP:20260423T110100
CREATED:20251013T175436Z
LAST-MODIFIED:20251013T175614Z
UID:2098-1763056800-1763056800@fshoa-va.com
SUMMARY:2025 FSHOA Annual Meeting
DESCRIPTION:The 2025 FSHOA Annual Meeting will take place on Thursday\, November 13 at the Fairview Elementary School Cafeteria. \n\n6:00 PM – Social Hour with pizza & light refreshments hosted by the Neighborhood Events committee\n7:00 PM – Annual meeting & Board Elections
URL:https://fshoa-va.com/event/2025-fshoa-annual-meeting/
LOCATION:Fairview Elementary School\, 5815 Ox Road\, Fairfax Station\, VA\, 22039\, United States
CATEGORIES:Annual Meeting
END:VEVENT
BEGIN:VEVENT
DTSTART;TZID=America/New_York:20250925T190000
DTEND;TZID=America/New_York:20250925T190000
DTSTAMP:20260423T110100
CREATED:20250827T170412Z
LAST-MODIFIED:20250827T170412Z
UID:2076-1758826800-1758826800@fshoa-va.com
SUMMARY:September 2025 Board Meeting
DESCRIPTION:The September 2025 Board Meeting will be held on Thursday\, September 25 at 7:00 pm via Zoom. We encourage our FSHOA homeowners to attend and participate. It’s a great forum to make your voice heard and to work together to improve our community. If you’re interested in attending this virtual meeting\, please send an email to Matt Howard\, HOA President.
URL:https://fshoa-va.com/event/september-2025-board-meeting/
LOCATION:via Zoom
CATEGORIES:Board Meetings
END:VEVENT
BEGIN:VEVENT
DTSTART;TZID=America/New_York:20250821T190000
DTEND;TZID=America/New_York:20250821T190000
DTSTAMP:20260423T110100
CREATED:20250701T182849Z
LAST-MODIFIED:20250701T182849Z
UID:2055-1755802800-1755802800@fshoa-va.com
SUMMARY:August 2025 Board Meeting
DESCRIPTION:The August 2025 Board Meeting will be held on Thursday\, August 21 at 7:00 pm via Zoom. We encourage our FSHOA homeowners to attend and participate. It’s a great forum to make your voice heard and to work together to improve our community. If you’re interested in attending this virtual meeting\, please send an email to Matt Howard\, HOA President.
URL:https://fshoa-va.com/event/august-2025-board-meeting/
LOCATION:via Zoom
CATEGORIES:Board Meetings
END:VEVENT
BEGIN:VEVENT
DTSTART;TZID=America/New_York:20250626T190000
DTEND;TZID=America/New_York:20250626T190000
DTSTAMP:20260423T110100
CREATED:20250528T144210Z
LAST-MODIFIED:20250616T144837Z
UID:2034-1750964400-1750964400@fshoa-va.com
SUMMARY:June 2025 Board Meeting
DESCRIPTION:The June 2025 Board Meeting will be held on Thursday\, June 26 at 7:00 pm via Zoom. We encourage our FSHOA homeowners to attend and participate. It’s a great forum to make your voice heard and to work together to improve our community. If you’re interested in attending this virtual meeting\, please send an email to Matt Howard\, HOA President.
URL:https://fshoa-va.com/event/june-2025-board-meeting/
LOCATION:via Zoom
CATEGORIES:Board Meetings
END:VEVENT
BEGIN:VEVENT
DTSTART;TZID=America/New_York:20250522T190000
DTEND;TZID=America/New_York:20250522T190000
DTSTAMP:20260423T110100
CREATED:20250503T182545Z
LAST-MODIFIED:20250503T182545Z
UID:2010-1747940400-1747940400@fshoa-va.com
SUMMARY:May 2025 Board Meeting
DESCRIPTION:The May 2025 Board Meeting will be held on Thursday\, May 22 at 7:00 pm via Zoom. We encourage our FSHOA homeowners to attend and participate. It’s a great forum to make your voice heard and to work together to improve our community. If you’re interested in attending this virtual meeting\, please send an email to Matt Howard\, HOA President.
URL:https://fshoa-va.com/event/may-2025-board-meeting/
LOCATION:via Zoom
CATEGORIES:Board Meetings
END:VEVENT
BEGIN:VEVENT
DTSTART;TZID=America/New_York:20250320T191500
DTEND;TZID=America/New_York:20250320T191500
DTSTAMP:20260423T110100
CREATED:20250309T212049Z
LAST-MODIFIED:20250309T212049Z
UID:1980-1742498100-1742498100@fshoa-va.com
SUMMARY:March 2025 Board Meeting
DESCRIPTION:The March 2025 Board Meeting will be held on Thursday\, March 20 at 7:15 pm via Zoom. We encourage our FSHOA homeowners to attend and participate. It’s a great forum to make your voice heard and to work together to improve our community. If you’re interested in attending this virtual meeting\, please send an email to Matt Howard\, HOA President.
URL:https://fshoa-va.com/event/march-2025-board-meeting/
LOCATION:via Zoom
CATEGORIES:Board Meetings
END:VEVENT
BEGIN:VEVENT
DTSTART;TZID=America/New_York:20250220T191500
DTEND;TZID=America/New_York:20250220T191500
DTSTAMP:20260423T110100
CREATED:20250123T162448Z
LAST-MODIFIED:20250123T162448Z
UID:1969-1740078900-1740078900@fshoa-va.com
SUMMARY:February 2025 Board Meeting
DESCRIPTION:The Febryary 2025 Board Meeting will be held on Thursday\, February 20 at 7:15 pm via Zoom. We encourage our FSHOA homeowners to attend and participate. It’s a great forum to make your voice heard and to work together to improve our community. If you’re interested in attending this virtual meeting\, please send an email to Matt Howard\, HOA President.
URL:https://fshoa-va.com/event/february-2025-board-meeting/
LOCATION:via Zoom
CATEGORIES:Board Meetings
END:VEVENT
BEGIN:VEVENT
DTSTART;TZID=America/New_York:20250116T191500
DTEND;TZID=America/New_York:20250116T191500
DTSTAMP:20260423T110100
CREATED:20250107T154621Z
LAST-MODIFIED:20250107T154621Z
UID:1961-1737054900-1737054900@fshoa-va.com
SUMMARY:January 2025 Board Meeting
DESCRIPTION:The January 2025 Board Meeting will be held on Thursday\, January 16 at 7:15 pm via Zoom. We encourage our FSHOA homeowners to attend and participate. It’s a great forum to make your voice heard and to work together to improve our community. If you’re interested in attending this virtual meeting\, please send an email to Matt Howard\, HOA President.
URL:https://fshoa-va.com/event/january-2025-board-meeting/
LOCATION:via Zoom
CATEGORIES:Board Meetings
END:VEVENT
BEGIN:VEVENT
DTSTART;TZID=America/New_York:20241219T191500
DTEND;TZID=America/New_York:20241219T191500
DTSTAMP:20260423T110100
CREATED:20241024T115834Z
LAST-MODIFIED:20241024T115834Z
UID:1935-1734635700-1734635700@fshoa-va.com
SUMMARY:December 2024 Board Meeting
DESCRIPTION:The December 2024 Board Meeting will be held on Thursday\, December 19 at 7:15 pm via Zoom. We encourage our FSHOA homeowners to attend and participate. It’s a great forum to make your voice heard and to work together to improve our community. If you’re interested in attending this virtual meeting\, please send an email to Matt Howard\, HOA President.
URL:https://fshoa-va.com/event/december-2024-board-meeting/
LOCATION:via Zoom
CATEGORIES:Board Meetings
END:VEVENT
BEGIN:VEVENT
DTSTART;TZID=America/New_York:20241114T180000
DTEND;TZID=America/New_York:20241114T180000
DTSTAMP:20260423T110100
CREATED:20241024T120214Z
LAST-MODIFIED:20241024T120214Z
UID:1937-1731607200-1731607200@fshoa-va.com
SUMMARY:2024 Homeowners Association Annual Meeting & Social Hour
DESCRIPTION:The Fairfax Station Homeowners Association will conduct the Annual Meeting on Thursday\, November 14\, 2024 at Fairview Elementary School in the cafeteria. \nThe social hour with refreshments begins at 6pm. \nThe meeting will commence at 7pm.
URL:https://fshoa-va.com/event/2024-homeowners-association-annual-meeting-social-hour/
LOCATION:Fairview Elementary School\, 5815 Ox Road\, Fairfax Station\, VA\, 22039\, United States
CATEGORIES:Annual Meeting
END:VEVENT
BEGIN:VEVENT
DTSTART;TZID=America/New_York:20241031T170000
DTEND;TZID=America/New_York:20241031T170000
DTSTAMP:20260423T110100
CREATED:20241024T120534Z
LAST-MODIFIED:20241024T120534Z
UID:1939-1730394000-1730394000@fshoa-va.com
SUMMARY:2024 Annual Halloween Party
DESCRIPTION:Kick off your Halloween Night at the FSHOA & FSSTC Annual Halloween Party. There will be pizza\, soft drinks and music to enjoy. Bring a dish to share with your fellow trick-or-treaters!
URL:https://fshoa-va.com/event/2024-annual-halloween-party/
LOCATION:Fairfax Station Swim & Tennis Club\, 6203 Old Arrington Ln.\, Fairfax Station\, VA\, 22039
CATEGORIES:Social Events
END:VEVENT
BEGIN:VEVENT
DTSTART;TZID=America/New_York:20241016T191500
DTEND;TZID=America/New_York:20241016T191500
DTSTAMP:20260423T110100
CREATED:20241001T175344Z
LAST-MODIFIED:20241001T175344Z
UID:1918-1729106100-1729106100@fshoa-va.com
SUMMARY:October 2024 Board Meeting
DESCRIPTION:The October 2024 Board Meeting will be held on Wednesday\, October 16 at 7:15 pm via Zoom. We encourage our FSHOA homeowners to attend and participate. It’s a great forum to make your voice heard and to work together to improve our community. If you’re interested in attending this virtual meeting\, please send an email to Matt Howard\, HOA President.
URL:https://fshoa-va.com/event/october-2024-board-meeting/
LOCATION:via Zoom
CATEGORIES:Board Meetings
END:VEVENT
BEGIN:VEVENT
DTSTART;TZID=America/New_York:20240919T191500
DTEND;TZID=America/New_York:20240919T191500
DTSTAMP:20260423T110100
CREATED:20240903T163503Z
LAST-MODIFIED:20240903T163503Z
UID:1906-1726773300-1726773300@fshoa-va.com
SUMMARY:September 2024 Board Meeting
DESCRIPTION:The September 2024 Board Meeting will be held on Thursday\, September 19 at 7:15 pm via Zoom. We encourage our FSHOA homeowners to attend and participate. It’s a great forum to make your voice heard and to work together to improve our community. If you’re interested in attending this virtual meeting\, please send an email to Matt Howard\, HOA President.
URL:https://fshoa-va.com/event/september-2024-board-meeting/
LOCATION:via Zoom
CATEGORIES:Board Meetings
END:VEVENT
BEGIN:VEVENT
DTSTART;TZID=America/New_York:20240822T191500
DTEND;TZID=America/New_York:20240822T191500
DTSTAMP:20260423T110100
CREATED:20240822T110349Z
LAST-MODIFIED:20240822T110349Z
UID:1902-1724354100-1724354100@fshoa-va.com
SUMMARY:August 2024 Board Meeting
DESCRIPTION:The August 2024 Board Meeting will be held on Thursday\, August 22 at 7:15 pm via Zoom. We encourage our FSHOA homeowners to attend and participate. It’s a great forum to make your voice heard and to work together to improve our community. If you’re interested in attending this virtual meeting\, please send an email to Matt Howard\, HOA President.
URL:https://fshoa-va.com/event/august-2024-board-meeting/
LOCATION:via Zoom
CATEGORIES:Board Meetings
END:VEVENT
BEGIN:VEVENT
DTSTART;TZID=America/New_York:20240627T191500
DTEND;TZID=America/New_York:20240627T193000
DTSTAMP:20260423T110100
CREATED:20240606T172039Z
LAST-MODIFIED:20240606T172039Z
UID:1894-1719515700-1719516600@fshoa-va.com
SUMMARY:June 2024 Board Meeting
DESCRIPTION:The June 2024 Board Meeting will be held on Thursday\, June 27 at 7:15 pm via Zoom. We encourage our FSHOA homeowners to attend and participate. It’s a great forum to make your voice heard and to work together to improve our community. If you’re interested in attending this virtual meeting\, please send an email to Matt Howard\, HOA President.
URL:https://fshoa-va.com/event/june-2024-board-meeting/
LOCATION:via Zoom
CATEGORIES:Board Meetings
END:VEVENT
BEGIN:VEVENT
DTSTART;TZID=America/New_York:20240523T191500
DTEND;TZID=America/New_York:20240523T191500
DTSTAMP:20260423T110100
CREATED:20240430T150932Z
LAST-MODIFIED:20240430T150932Z
UID:1873-1716491700-1716491700@fshoa-va.com
SUMMARY:May 2024 Board Meeting
DESCRIPTION:The May 2024 Board Meeting will be held on Thursday\, May 23 at 7:15 pm via Zoom. We encourage our FSHOA homeowners to attend and participate. It’s a great forum to make your voice heard and to work together to improve our community. If you’re interested in attending this virtual meeting\, please send an email to Matt Howard\, HOA President.
URL:https://fshoa-va.com/event/may-2024-board-meeting/
LOCATION:via Zoom
CATEGORIES:Board Meetings
END:VEVENT
BEGIN:VEVENT
DTSTART;TZID=America/New_York:20240425T191500
DTEND;TZID=America/New_York:20240425T191500
DTSTAMP:20260423T110100
CREATED:20240417T183946Z
LAST-MODIFIED:20240417T184039Z
UID:1867-1714072500-1714072500@fshoa-va.com
SUMMARY:April 2024 Board Meeting
DESCRIPTION:The April 2024 Board Meeting will be held on Thursday\, April 25 at 7:15 pm via Zoom. We encourage our FSHOA homeowners to attend and participate. It’s a great forum to make your voice heard and to work together to improve our community. \nIf you’re interested in attending this virtual meeting\, please send an email to Matt Howard\, HOA President.
URL:https://fshoa-va.com/event/1867/
LOCATION:via Zoom
CATEGORIES:Board Meetings
END:VEVENT
BEGIN:VEVENT
DTSTART;TZID=America/New_York:20240321T191500
DTEND;TZID=America/New_York:20240321T191500
DTSTAMP:20260423T110100
CREATED:20240315T112843Z
LAST-MODIFIED:20240315T112843Z
UID:1816-1711048500-1711048500@fshoa-va.com
SUMMARY:March 2024 Board Meeting
DESCRIPTION:The March 2024 Board Meeting will be held on Thursday\, March 21 at 7:15 pm via Zoom. We encourage our FSHOA homeowners to attend and participate. It’s a great forum to make your voice heard and to work together to improve our community. \nIf you’re interested in attending this virtual meeting\, please send an email to Matt Howard\, HOA President.
URL:https://fshoa-va.com/event/march-2024-board-meeting/
LOCATION:via Zoom
CATEGORIES:Board Meetings
END:VEVENT
BEGIN:VEVENT
DTSTART;TZID=America/New_York:20240222T191500
DTEND;TZID=America/New_York:20240222T191500
DTSTAMP:20260423T110100
CREATED:20240201T233620Z
LAST-MODIFIED:20240201T233620Z
UID:1776-1708629300-1708629300@fshoa-va.com
SUMMARY:February 2024 Board Meeting
DESCRIPTION:The February 2024 Board Meeting will be held on Thursday\, February 22 at 7:15 pm via Zoom. We encourage our FSHOA homeowners to attend and participate. It’s a great forum to make your voice heard and to work together to improve our community. \nIf you’re interested in attending this virtual meeting\, please send an email to Matt Howard\, HOA President.
URL:https://fshoa-va.com/event/february-2024-board-meeting/
LOCATION:via Zoom
CATEGORIES:Board Meetings
END:VEVENT
BEGIN:VEVENT
DTSTART;TZID=America/New_York:20240118T191500
DTEND;TZID=America/New_York:20240118T191500
DTSTAMP:20260423T110100
CREATED:20240118T115553Z
LAST-MODIFIED:20240118T115553Z
UID:1760-1705605300-1705605300@fshoa-va.com
SUMMARY:January 2024 Board Meeting
DESCRIPTION:The January 2024 Board Meeting will be held on Thursday\, January 18 at 7:15 pm via Zoom. We encourage our FSHOA homeowners to attend and participate. It’s a great forum to make your voice heard and to work together to improve our community. \nIf you’re interested in attending this virtual meeting\, please send an email to Matt Howard\, HOA President.
URL:https://fshoa-va.com/event/january-2024-board-meeting/
LOCATION:via Zoom
CATEGORIES:Board Meetings
END:VEVENT
BEGIN:VEVENT
DTSTART;TZID=America/New_York:20231109T180000
DTEND;TZID=America/New_York:20231109T180000
DTSTAMP:20260423T110100
CREATED:20231002T153708Z
LAST-MODIFIED:20231002T153708Z
UID:1721-1699552800-1699552800@fshoa-va.com
SUMMARY:2023 Homeowners Association Annual Meeting & Social Hour
DESCRIPTION:The Fairfax Station Homeowners Association will conduct the Annual Meeting on Thursday\, November 9\, 2022 at Fairview Elementary School. \nThe social hour with refreshments begins at 6pm. \nThe meeting will commence at 7pm.
URL:https://fshoa-va.com/event/2023-homeowners-association-annual-meeting-social-hour/
LOCATION:Fairview Elementary School\, 5815 Ox Road\, Fairfax Station\, VA\, 22039\, United States
CATEGORIES:Annual Meeting
END:VEVENT
BEGIN:VEVENT
DTSTART;TZID=America/New_York:20231031T170000
DTEND;TZID=America/New_York:20231031T170000
DTSTAMP:20260423T110100
CREATED:20231002T154240Z
LAST-MODIFIED:20231002T154240Z
UID:1723-1698771600-1698771600@fshoa-va.com
SUMMARY:2023 Annual Halloween Party
DESCRIPTION:Kick off your Halloween Night at the FSHOA & FSSTC Annual Halloween Party. There will be pizza\, water and music to enjoy. Bring a dish to share with your fellow trick-or-treaters!
URL:https://fshoa-va.com/event/2023-annual-halloween-party/
LOCATION:Fairfax Station Swim & Tennis Club\, 6203 Old Arrington Ln.\, Fairfax Station\, VA\, 22039
CATEGORIES:Social Events
END:VEVENT
BEGIN:VEVENT
DTSTART;TZID=America/New_York:20230921T190000
DTEND;TZID=America/New_York:20230921T190000
DTSTAMP:20260423T110100
CREATED:20230825T133113Z
LAST-MODIFIED:20230825T133113Z
UID:1702-1695322800-1695322800@fshoa-va.com
SUMMARY:September 2023 Board Meeting
DESCRIPTION:The September 2023 Board Meeting will be held on Thursday\, September 21 at 7pm via Zoom. We encourage our FSHOA homeowners to attend and participate. It’s a great forum to make your voice heard and to work together to improve our community. \nIf you’re interested in attending this virtual meeting\, please send an email to Matt Howard\, HOA President.
URL:https://fshoa-va.com/event/september-2023-board-meeting/
LOCATION:via Zoom
CATEGORIES:Board Meetings
END:VEVENT
BEGIN:VEVENT
DTSTART;TZID=America/New_York:20230824T190000
DTEND;TZID=America/New_York:20230824T190000
DTSTAMP:20260423T110100
CREATED:20230814T173455Z
LAST-MODIFIED:20230814T173455Z
UID:1687-1692903600-1692903600@fshoa-va.com
SUMMARY:August 2023 Board Meeting
DESCRIPTION:The August 2023 Board Meeting will be held on Thursday\, August 24 at 7pm via Zoom. We encourage our FSHOA homeowners to attend and participate. It’s a great forum to make your voice heard and to work together to improve our community. \nIf you’re interested in attending this virtual meeting\, please send an email to Matt Howard\, HOA President.
URL:https://fshoa-va.com/event/august-2023-board-meeting/
LOCATION:via Zoom
CATEGORIES:Board Meetings
END:VEVENT
BEGIN:VEVENT
DTSTART;TZID=America/New_York:20230629T190000
DTEND;TZID=America/New_York:20230629T190000
DTSTAMP:20260423T110100
CREATED:20230529T134226Z
LAST-MODIFIED:20230529T134226Z
UID:1647-1688065200-1688065200@fshoa-va.com
SUMMARY:June 2023 Board Meeting
DESCRIPTION:The June 2023 Board Meeting will be held on June 29 at 7pm via Zoom. We encourage our FSHOA homeowners to attend and participate. It’s a great forum to make your voice heard and to work together to improve our community. \nIf you’re interested in attending this virtual meeting\, please send an email to Matt Howard\, HOA President.
URL:https://fshoa-va.com/event/june-2023-board-meeting/
CATEGORIES:Board Meetings
END:VEVENT
BEGIN:VEVENT
DTSTART;TZID=America/New_York:20230525T190000
DTEND;TZID=America/New_York:20230525T190000
DTSTAMP:20260423T110100
CREATED:20230521T145321Z
LAST-MODIFIED:20230521T145321Z
UID:1641-1685041200-1685041200@fshoa-va.com
SUMMARY:May 2023 Board Meeting
DESCRIPTION:The May 2023 Board Meeting will be held on May 25 at 7pm via Zoom. We encourage our FSHOA homeowners to attend and participate. It’s a great forum to make your voice heard and to work together to improve our community. \nIf you’re interested in attending this virtual meeting\, please send an email to Matt Howard\, HOA President.
URL:https://fshoa-va.com/event/may-2023-board-meeting/
CATEGORIES:Board Meetings
END:VEVENT
END:VCALENDAR