BEGIN:VCALENDAR
VERSION:2.0
PRODID:-//Fairfax Station Homeowners&#039; Association - ECPv6.15.20//NONSGML v1.0//EN
CALSCALE:GREGORIAN
METHOD:PUBLISH
X-WR-CALNAME:Fairfax Station Homeowners&#039; Association
X-ORIGINAL-URL:https://fshoa-va.com
X-WR-CALDESC:Events for Fairfax Station Homeowners&#039; Association
REFRESH-INTERVAL;VALUE=DURATION:PT1H
X-Robots-Tag:noindex
X-PUBLISHED-TTL:PT1H
BEGIN:VTIMEZONE
TZID:America/New_York
BEGIN:DAYLIGHT
TZOFFSETFROM:-0500
TZOFFSETTO:-0400
TZNAME:EDT
DTSTART:20210314T070000
END:DAYLIGHT
BEGIN:STANDARD
TZOFFSETFROM:-0400
TZOFFSETTO:-0500
TZNAME:EST
DTSTART:20211107T060000
END:STANDARD
BEGIN:DAYLIGHT
TZOFFSETFROM:-0500
TZOFFSETTO:-0400
TZNAME:EDT
DTSTART:20220313T070000
END:DAYLIGHT
BEGIN:STANDARD
TZOFFSETFROM:-0400
TZOFFSETTO:-0500
TZNAME:EST
DTSTART:20221106T060000
END:STANDARD
BEGIN:DAYLIGHT
TZOFFSETFROM:-0500
TZOFFSETTO:-0400
TZNAME:EDT
DTSTART:20230312T070000
END:DAYLIGHT
BEGIN:STANDARD
TZOFFSETFROM:-0400
TZOFFSETTO:-0500
TZNAME:EST
DTSTART:20231105T060000
END:STANDARD
END:VTIMEZONE
BEGIN:VEVENT
DTSTART;TZID=America/New_York:20220818T190000
DTEND;TZID=America/New_York:20220818T190000
DTSTAMP:20260423T160149
CREATED:20220701T155427Z
LAST-MODIFIED:20220701T155427Z
UID:1463-1660849200-1660849200@fshoa-va.com
SUMMARY:August 2022 Board Meeting
DESCRIPTION:The August 2022 Board Meeting will be held on Thursday\, August 18 at 7pm at Burke Centre Library. We encourage our FSHOA homeowners to attend and participate. It’s a great forum to make your voice heard and to work together to improve our community.
URL:https://fshoa-va.com/event/august-2022-board-meeting/
LOCATION:Burke Centre Library\, 5935 Freds Oak Rd.\, Burke\, VA\, 22015\, United States
CATEGORIES:Board Meetings
END:VEVENT
BEGIN:VEVENT
DTSTART;TZID=America/New_York:20220623T190000
DTEND;TZID=America/New_York:20220623T190000
DTSTAMP:20260423T160149
CREATED:20220531T111738Z
LAST-MODIFIED:20220608T130831Z
UID:1421-1656010800-1656010800@fshoa-va.com
SUMMARY:June 2022 Board Meeting
DESCRIPTION:The June 2022 Board Meeting will be held on Thursday\, June 23 at 7pm at Burke Centre Library. We encourage our FSHOA homeowners to attend and participate. It’s a great forum to make your voice heard and to work together to improve our community.
URL:https://fshoa-va.com/event/june-2022-board-meeting/
LOCATION:Burke Centre Library\, 5935 Freds Oak Rd.\, Burke\, VA\, 22015\, United States
CATEGORIES:Board Meetings
END:VEVENT
END:VCALENDAR