BEGIN:VCALENDAR
VERSION:2.0
PRODID:-//Fairfax Station Homeowners&#039; Association - ECPv6.15.20//NONSGML v1.0//EN
CALSCALE:GREGORIAN
METHOD:PUBLISH
X-ORIGINAL-URL:https://fshoa-va.com
X-WR-CALDESC:Events for Fairfax Station Homeowners&#039; Association
REFRESH-INTERVAL;VALUE=DURATION:PT1H
X-Robots-Tag:noindex
X-PUBLISHED-TTL:PT1H
BEGIN:VTIMEZONE
TZID:America/New_York
BEGIN:DAYLIGHT
TZOFFSETFROM:-0500
TZOFFSETTO:-0400
TZNAME:EDT
DTSTART:20240310T070000
END:DAYLIGHT
BEGIN:STANDARD
TZOFFSETFROM:-0400
TZOFFSETTO:-0500
TZNAME:EST
DTSTART:20241103T060000
END:STANDARD
BEGIN:DAYLIGHT
TZOFFSETFROM:-0500
TZOFFSETTO:-0400
TZNAME:EDT
DTSTART:20250309T070000
END:DAYLIGHT
BEGIN:STANDARD
TZOFFSETFROM:-0400
TZOFFSETTO:-0500
TZNAME:EST
DTSTART:20251102T060000
END:STANDARD
BEGIN:DAYLIGHT
TZOFFSETFROM:-0500
TZOFFSETTO:-0400
TZNAME:EDT
DTSTART:20260308T070000
END:DAYLIGHT
BEGIN:STANDARD
TZOFFSETFROM:-0400
TZOFFSETTO:-0500
TZNAME:EST
DTSTART:20261101T060000
END:STANDARD
BEGIN:DAYLIGHT
TZOFFSETFROM:-0500
TZOFFSETTO:-0400
TZNAME:EDT
DTSTART:20270314T070000
END:DAYLIGHT
BEGIN:STANDARD
TZOFFSETFROM:-0400
TZOFFSETTO:-0500
TZNAME:EST
DTSTART:20271107T060000
END:STANDARD
END:VTIMEZONE
BEGIN:VEVENT
DTSTART;TZID=America/New_York:20250116T191500
DTEND;TZID=America/New_York:20250116T191500
DTSTAMP:20260425T065027
CREATED:20250107T154621Z
LAST-MODIFIED:20250107T154621Z
UID:1961-1737054900-1737054900@fshoa-va.com
SUMMARY:January 2025 Board Meeting
DESCRIPTION:The January 2025 Board Meeting will be held on Thursday\, January 16 at 7:15 pm via Zoom. We encourage our FSHOA homeowners to attend and participate. It’s a great forum to make your voice heard and to work together to improve our community. If you’re interested in attending this virtual meeting\, please send an email to Matt Howard\, HOA President.
URL:https://fshoa-va.com/event/january-2025-board-meeting/
LOCATION:via Zoom
CATEGORIES:Board Meetings
END:VEVENT
BEGIN:VEVENT
DTSTART;TZID=America/New_York:20250220T191500
DTEND;TZID=America/New_York:20250220T191500
DTSTAMP:20260425T065027
CREATED:20250123T162448Z
LAST-MODIFIED:20250123T162448Z
UID:1969-1740078900-1740078900@fshoa-va.com
SUMMARY:February 2025 Board Meeting
DESCRIPTION:The Febryary 2025 Board Meeting will be held on Thursday\, February 20 at 7:15 pm via Zoom. We encourage our FSHOA homeowners to attend and participate. It’s a great forum to make your voice heard and to work together to improve our community. If you’re interested in attending this virtual meeting\, please send an email to Matt Howard\, HOA President.
URL:https://fshoa-va.com/event/february-2025-board-meeting/
LOCATION:via Zoom
CATEGORIES:Board Meetings
END:VEVENT
BEGIN:VEVENT
DTSTART;TZID=America/New_York:20250320T191500
DTEND;TZID=America/New_York:20250320T191500
DTSTAMP:20260425T065027
CREATED:20250309T212049Z
LAST-MODIFIED:20250309T212049Z
UID:1980-1742498100-1742498100@fshoa-va.com
SUMMARY:March 2025 Board Meeting
DESCRIPTION:The March 2025 Board Meeting will be held on Thursday\, March 20 at 7:15 pm via Zoom. We encourage our FSHOA homeowners to attend and participate. It’s a great forum to make your voice heard and to work together to improve our community. If you’re interested in attending this virtual meeting\, please send an email to Matt Howard\, HOA President.
URL:https://fshoa-va.com/event/march-2025-board-meeting/
LOCATION:via Zoom
CATEGORIES:Board Meetings
END:VEVENT
BEGIN:VEVENT
DTSTART;TZID=America/New_York:20250522T190000
DTEND;TZID=America/New_York:20250522T190000
DTSTAMP:20260425T065027
CREATED:20250503T182545Z
LAST-MODIFIED:20250503T182545Z
UID:2010-1747940400-1747940400@fshoa-va.com
SUMMARY:May 2025 Board Meeting
DESCRIPTION:The May 2025 Board Meeting will be held on Thursday\, May 22 at 7:00 pm via Zoom. We encourage our FSHOA homeowners to attend and participate. It’s a great forum to make your voice heard and to work together to improve our community. If you’re interested in attending this virtual meeting\, please send an email to Matt Howard\, HOA President.
URL:https://fshoa-va.com/event/may-2025-board-meeting/
LOCATION:via Zoom
CATEGORIES:Board Meetings
END:VEVENT
BEGIN:VEVENT
DTSTART;TZID=America/New_York:20250626T190000
DTEND;TZID=America/New_York:20250626T190000
DTSTAMP:20260425T065027
CREATED:20250528T144210Z
LAST-MODIFIED:20250616T144837Z
UID:2034-1750964400-1750964400@fshoa-va.com
SUMMARY:June 2025 Board Meeting
DESCRIPTION:The June 2025 Board Meeting will be held on Thursday\, June 26 at 7:00 pm via Zoom. We encourage our FSHOA homeowners to attend and participate. It’s a great forum to make your voice heard and to work together to improve our community. If you’re interested in attending this virtual meeting\, please send an email to Matt Howard\, HOA President.
URL:https://fshoa-va.com/event/june-2025-board-meeting/
LOCATION:via Zoom
CATEGORIES:Board Meetings
END:VEVENT
BEGIN:VEVENT
DTSTART;TZID=America/New_York:20250821T190000
DTEND;TZID=America/New_York:20250821T190000
DTSTAMP:20260425T065027
CREATED:20250701T182849Z
LAST-MODIFIED:20250701T182849Z
UID:2055-1755802800-1755802800@fshoa-va.com
SUMMARY:August 2025 Board Meeting
DESCRIPTION:The August 2025 Board Meeting will be held on Thursday\, August 21 at 7:00 pm via Zoom. We encourage our FSHOA homeowners to attend and participate. It’s a great forum to make your voice heard and to work together to improve our community. If you’re interested in attending this virtual meeting\, please send an email to Matt Howard\, HOA President.
URL:https://fshoa-va.com/event/august-2025-board-meeting/
LOCATION:via Zoom
CATEGORIES:Board Meetings
END:VEVENT
BEGIN:VEVENT
DTSTART;TZID=America/New_York:20250925T190000
DTEND;TZID=America/New_York:20250925T190000
DTSTAMP:20260425T065027
CREATED:20250827T170412Z
LAST-MODIFIED:20250827T170412Z
UID:2076-1758826800-1758826800@fshoa-va.com
SUMMARY:September 2025 Board Meeting
DESCRIPTION:The September 2025 Board Meeting will be held on Thursday\, September 25 at 7:00 pm via Zoom. We encourage our FSHOA homeowners to attend and participate. It’s a great forum to make your voice heard and to work together to improve our community. If you’re interested in attending this virtual meeting\, please send an email to Matt Howard\, HOA President.
URL:https://fshoa-va.com/event/september-2025-board-meeting/
LOCATION:via Zoom
CATEGORIES:Board Meetings
END:VEVENT
BEGIN:VEVENT
DTSTART;TZID=America/New_York:20260122T190000
DTEND;TZID=America/New_York:20260122T190000
DTSTAMP:20260425T065027
CREATED:20260102T193315Z
LAST-MODIFIED:20260102T193315Z
UID:2117-1769108400-1769108400@fshoa-va.com
SUMMARY:January 2026 Board Meeting
DESCRIPTION:The January 2026 Board Meeting will be held on Thursday\, January 26 at 7:00 pm via Zoom. We encourage our FSHOA homeowners to attend and participate. It’s a great forum to make your voice heard and to work together to improve our community. If you’re interested in attending this virtual meeting\, please send an email to Matt Howard\, HOA President.
URL:https://fshoa-va.com/event/january-2026-board-meeting/
LOCATION:via Zoom
CATEGORIES:Board Meetings
END:VEVENT
BEGIN:VEVENT
DTSTART;TZID=America/New_York:20260219T190000
DTEND;TZID=America/New_York:20260219T190000
DTSTAMP:20260425T065027
CREATED:20260202T163448Z
LAST-MODIFIED:20260202T163628Z
UID:2126-1771527600-1771527600@fshoa-va.com
SUMMARY:February 2026 Board Meeting
DESCRIPTION:The February 2026 Board Meeting will be held on Thursday\, February 19 at 7:00 pm via Zoom. We encourage our FSHOA homeowners to attend and participate. It’s a great forum to make your voice heard and to work together to improve our community. If you’re interested in attending this virtual meeting\, please send an email to Matt Howard\, HOA President.
URL:https://fshoa-va.com/event/february-2026-board-meeting/
LOCATION:via Zoom
CATEGORIES:Board Meetings
END:VEVENT
BEGIN:VEVENT
DTSTART;TZID=America/New_York:20260319T190000
DTEND;TZID=America/New_York:20260319T190000
DTSTAMP:20260425T065027
CREATED:20260228T181145Z
LAST-MODIFIED:20260228T181331Z
UID:2132-1773946800-1773946800@fshoa-va.com
SUMMARY:March 2026 Board Meeting
DESCRIPTION:The March 2026 Board Meeting will be held on Thursday\, March 19 at 7:00 pm via Zoom. We encourage our FSHOA homeowners to attend and participate. It’s a great forum to make your voice heard and to work together to improve our community. If you’re interested in attending this virtual meeting\, please send an email to Matt Howard\, HOA President.
URL:https://fshoa-va.com/event/march-2026-board-meeting/
LOCATION:via Zoom
CATEGORIES:Board Meetings
END:VEVENT
BEGIN:VEVENT
DTSTART;TZID=America/New_York:20260416T190000
DTEND;TZID=America/New_York:20260416T190000
DTSTAMP:20260425T065027
CREATED:20260415T135627Z
LAST-MODIFIED:20260415T135627Z
UID:2156-1776366000-1776366000@fshoa-va.com
SUMMARY:April 2026 Board Meeting
DESCRIPTION:The April 2026 Board Meeting will be held on Thursday\, April 16 at 7:00 pm via Zoom. We encourage our FSHOA homeowners to attend and participate. It’s a great forum to make your voice heard and to work together to improve our community. If you’re interested in attending this virtual meeting\, please send an email to Matt Howard\, HOA President.
URL:https://fshoa-va.com/event/april-2026-board-meeting/
LOCATION:via Zoom
CATEGORIES:Board Meetings
END:VEVENT
END:VCALENDAR